View In:
ArcGIS JavaScript
ArcGIS Online map viewer
Google Earth
ArcMap
View Footprint In:
ArcGIS Online map viewer
Service Description: National Land Cover Database 2011 (NLCD)
Name: GreenInfrastructure/NLCD_2011_Alb_MSK
Description: National Land Cover Database 2011 (NLCD)
Single Fused Map Cache: false
Extent:
XMin: -2236877.275876234
YMin: -1693642.933511828
XMax: 2127042.724123766
YMax: 1328737.066488172
Spatial Reference: 102008
(102008)
Initial Extent:
XMin: -2236877.275876234
YMin: -1693642.933511828
XMax: 2127042.724123766
YMax: 1328737.066488172
Spatial Reference: 102008
(102008)
Full Extent:
XMin: -2236877.275876234
YMin: -1693642.933511828
XMax: 2127042.724123766
YMax: 1328737.066488172
Spatial Reference: 102008
(102008)
Pixel Size X: 30.0
Pixel Size Y: 30.0
Band Count: 1
Pixel Type: S8
RasterFunction Infos: N/A
Mensuration Capabilities: Basic
Has Histograms: true
Has Colormap: false
Has Multi Dimensions : false
Rendering Rule:
Min Scale: 0
Max Scale: 0
Copyright Text: USGS
Service Data Type: esriImageServiceDataTypeGeneric
Min Values: 0
Max Values: 95
Mean Values: 58.3944399630533
Standard Deviation Values: 20.377394234002807
Object ID Field:
Fields:
None
Default Mosaic Method: Center
Allowed Mosaic Methods:
SortField:
SortValue: null
Mosaic Operator: First
Default Compression Quality: 75
Default Resampling Method: Nearest
Max Record Count: null
Max Image Height: 41000
Max Image Width: 150000
Max Download Image Count: null
Max Mosaic Image Count: null
Allow Raster Function: true
Allow Compute TiePoints: false
Supports Statistics: false
Supports Advanced Queries: false
Use StandardizedQueries: true
Raster Type Infos:
Name: Raster Dataset
Description: Supports all ArcGIS Raster Datasets
Help:
Has Raster Attribute Table: true
Edit Fields Info: null
Ownership Based AccessControl For Rasters: null
Child Resources:
Info
Raster Attribute Table
Histograms
Key Properties
Legend
MultiDimensionalInfo
rasterFunctionInfos
Supported Operations:
Export Image
Identify
Measure
Compute Histograms
Compute Statistics Histograms
Get Samples
Compute Class Statistics