{
 "currentVersion": 10.4,
 "serviceDescription": "National Land Cover Database 2011 (NLCD)",
 "name": "GreenInfrastructure/NLCD_2011_Alb_MSK",
 "description": "National Land Cover Database 2011 (NLCD)",
 "extent": {
  "xmin": -2236877.275876234,
  "ymin": -1693642.933511828,
  "xmax": 2127042.724123766,
  "ymax": 1328737.066488172,
  "spatialReference": {
   "wkid": 102008,
   "latestWkid": 102008
  }
 },
 "initialExtent": {
  "xmin": -2236877.275876234,
  "ymin": -1693642.933511828,
  "xmax": 2127042.724123766,
  "ymax": 1328737.066488172,
  "spatialReference": {
   "wkid": 102008,
   "latestWkid": 102008
  }
 },
 "fullExtent": {
  "xmin": -2236877.275876234,
  "ymin": -1693642.933511828,
  "xmax": 2127042.724123766,
  "ymax": 1328737.066488172,
  "spatialReference": {
   "wkid": 102008,
   "latestWkid": 102008
  }
 },
 "pixelSizeX": 30,
 "pixelSizeY": 30,
 "bandCount": 1,
 "pixelType": "S8",
 "minPixelSize": 0,
 "maxPixelSize": 0,
 "copyrightText": "USGS",
 "serviceDataType": "esriImageServiceDataTypeGeneric",
 "minValues": [
  0
 ],
 "maxValues": [
  95
 ],
 "meanValues": [
  58.3944399630533
 ],
 "stdvValues": [
  20.377394234002807
 ],
 "objectIdField": "",
 "fields": [],
 "capabilities": "Image,Metadata,Mensuration",
 "defaultMosaicMethod": "Center",
 "allowedMosaicMethods": "",
 "sortField": "",
 "sortValue": null,
 "mosaicOperator": "First",
 "defaultCompressionQuality": 75,
 "defaultResamplingMethod": "Nearest",
 "maxImageHeight": 41000,
 "maxImageWidth": 150000,
 "allowRasterFunction": true,
 "rasterFunctionInfos": [],
 "rasterTypeInfos": [
  {
   "name": "Raster Dataset",
   "description": "Supports all ArcGIS Raster Datasets",
   "help": ""
  }
 ],
 "mensurationCapabilities": "Basic",
 "hasHistograms": true,
 "hasColormap": false,
 "hasRasterAttributeTable": true,
 "minScale": 0,
 "maxScale": 0,
 "exportTilesAllowed": false,
 "hasMultidimensions": false,
 "supportsStatistics": false,
 "supportsAdvancedQueries": false,
 "editFieldsInfo": null,
 "ownershipBasedAccessControlForRasters": null,
 "allowComputeTiePoints": false,
 "useStandardizedQueries": true,
 "advancedQueryCapabilities": {
  "useStandardizedQueries": true,
  "supportsStatistics": false,
  "supportsOrderBy": false,
  "supportsDistinct": false,
  "supportsPagination": false
 },
 "spatialReference": {
  "wkid": 102008,
  "latestWkid": 102008
 }
}
