View In:
ArcGIS JavaScript
ArcGIS Online map viewer
Google Earth
ArcMap
View Footprint In:
ArcGIS Online map viewer
Service Description: Fragments are minimally disturbed natural areas that did not meet habitat core requirements for inclusion in the cores database for some reason related to size, minimum thickness or the centroid of a cell fell outside the inner habitat core edge buffer. They are typically smaller than 100 acres in size and/or less than 200 meters wide and often highlight narrow riparian corridors. They can comprise a large portion of the landscape’s surface in areas significantly fragmented by roads, railroads, agriculture and other human dominated activities. While smaller than a core, these areas may represent highly valuable local resources in that they may serve as complimentary assets that improve the ecosystem function of neighboring cores, green infrastructure building blocks in highly fragmented landscapes void of cores, stepping stones for facilitating local connectivity, and pose opportunities for habitat restoration among others.
Name: GreenInfrastructure/Fragments_20170305
Description: Fragments are minimally disturbed natural areas that did not meet habitat core requirements for inclusion in the cores database for some reason related to size, minimum thickness or the centroid of a cell fell outside the inner habitat core edge buffer. They are typically smaller than 100 acres in size and/or less than 200 meters wide and often highlight narrow riparian corridors. They can comprise a large portion of the landscape’s surface in areas significantly fragmented by roads, railroads, agriculture and other human dominated activities. While smaller than a core, these areas may represent highly valuable local resources in that they may serve as complimentary assets that improve the ecosystem function of neighboring cores, green infrastructure building blocks in highly fragmented landscapes void of cores, stepping stones for facilitating local connectivity, and pose opportunities for habitat restoration among others.
Single Fused Map Cache: false
Extent:
XMin: -2236877.275876234
YMin: -1693642.933511828
XMax: 2127042.724123766
YMax: 1328737.066488172
Spatial Reference: 102008
(102008)
Initial Extent:
XMin: -2236877.275876234
YMin: -1693642.933511828
XMax: 2127042.724123766
YMax: 1328737.066488172
Spatial Reference: 102008
(102008)
Full Extent:
XMin: -2236877.275876234
YMin: -1693642.933511828
XMax: 2127042.724123766
YMax: 1328737.066488172
Spatial Reference: 102008
(102008)
Pixel Size X: 30.0
Pixel Size Y: 30.0
Band Count: 1
Pixel Type: S8
RasterFunction Infos: N/A
Mensuration Capabilities: Basic
Has Histograms: true
Has Colormap: true
Has Multi Dimensions : false
Rendering Rule:
Min Scale: 0
Max Scale: 0
Copyright Text: Esri APL, Green Infrastructure Center Inc.
Service Data Type: esriImageServiceDataTypeThematic
Min Values: 1
Max Values: 1
Mean Values: 1
Standard Deviation Values: 0
Object ID Field:
Fields:
None
Default Mosaic Method: Center
Allowed Mosaic Methods:
SortField:
SortValue: null
Mosaic Operator: First
Default Compression Quality: 75
Default Resampling Method: Nearest
Max Record Count: null
Max Image Height: 41000
Max Image Width: 150000
Max Download Image Count: null
Max Mosaic Image Count: null
Allow Raster Function: true
Allow Compute TiePoints: false
Supports Statistics: false
Supports Advanced Queries: false
Use StandardizedQueries: true
Raster Type Infos:
Name: Raster Dataset
Description: Supports all ArcGIS Raster Datasets
Help:
Has Raster Attribute Table: true
Edit Fields Info: null
Ownership Based AccessControl For Rasters: null
Child Resources:
Info
Raster Attribute Table
Histograms
Key Properties
Color Map
Legend
MultiDimensionalInfo
rasterFunctionInfos
Supported Operations:
Export Image
Identify
Compute Histograms
Compute Statistics Histograms
Get Samples
Compute Class Statistics