{
 "currentVersion": 10.4,
 "serviceDescription": "<DIV STYLE=\"text-align:Left;\"><P STYLE=\"margin:0 0 0 0;\"><SPAN>Fragments are minimally disturbed natural areas that did not meet habitat core requirements for inclusion in the cores database for some reason related to size, minimum thickness or the centroid of a cell fell outside the inner habitat core edge buffer. They are typically smaller than 100 acres in size and/or less than 200 meters wide and often highlight narrow riparian corridors. They can comprise a large portion of the landscape\u2019s surface in areas significantly fragmented by roads, railroads, agriculture and other human dominated activities. While smaller than a core, these areas may represent highly valuable local resources in that they may serve as complimentary assets that improve the ecosystem function of neighboring cores, green infrastructure building blocks in highly fragmented landscapes void of cores, stepping stones for facilitating local connectivity, and pose opportunities for habitat restoration among others.<\/SPAN><\/P><\/DIV>",
 "name": "GreenInfrastructure/Fragments_20170305",
 "description": "<DIV STYLE=\"text-align:Left;\"><P STYLE=\"margin:0 0 0 0;\"><SPAN>Fragments are minimally disturbed natural areas that did not meet habitat core requirements for inclusion in the cores database for some reason related to size, minimum thickness or the centroid of a cell fell outside the inner habitat core edge buffer. They are typically smaller than 100 acres in size and/or less than 200 meters wide and often highlight narrow riparian corridors. They can comprise a large portion of the landscape\u2019s surface in areas significantly fragmented by roads, railroads, agriculture and other human dominated activities. While smaller than a core, these areas may represent highly valuable local resources in that they may serve as complimentary assets that improve the ecosystem function of neighboring cores, green infrastructure building blocks in highly fragmented landscapes void of cores, stepping stones for facilitating local connectivity, and pose opportunities for habitat restoration among others.<\/SPAN><\/P><\/DIV>",
 "extent": {
  "xmin": -2236877.275876234,
  "ymin": -1693642.933511828,
  "xmax": 2127042.724123766,
  "ymax": 1328737.066488172,
  "spatialReference": {
   "wkid": 102008,
   "latestWkid": 102008
  }
 },
 "initialExtent": {
  "xmin": -2236877.275876234,
  "ymin": -1693642.933511828,
  "xmax": 2127042.724123766,
  "ymax": 1328737.066488172,
  "spatialReference": {
   "wkid": 102008,
   "latestWkid": 102008
  }
 },
 "fullExtent": {
  "xmin": -2236877.275876234,
  "ymin": -1693642.933511828,
  "xmax": 2127042.724123766,
  "ymax": 1328737.066488172,
  "spatialReference": {
   "wkid": 102008,
   "latestWkid": 102008
  }
 },
 "pixelSizeX": 30,
 "pixelSizeY": 30,
 "bandCount": 1,
 "pixelType": "S8",
 "minPixelSize": 0,
 "maxPixelSize": 0,
 "copyrightText": "Esri APL, Green Infrastructure Center Inc.",
 "serviceDataType": "esriImageServiceDataTypeThematic",
 "minValues": [
  1
 ],
 "maxValues": [
  1
 ],
 "meanValues": [
  1
 ],
 "stdvValues": [
  0
 ],
 "objectIdField": "",
 "fields": [],
 "capabilities": "Image,Metadata",
 "defaultMosaicMethod": "Center",
 "allowedMosaicMethods": "",
 "sortField": "",
 "sortValue": null,
 "mosaicOperator": "First",
 "defaultCompressionQuality": 75,
 "defaultResamplingMethod": "Nearest",
 "maxImageHeight": 41000,
 "maxImageWidth": 150000,
 "allowRasterFunction": true,
 "rasterFunctionInfos": [],
 "rasterTypeInfos": [
  {
   "name": "Raster Dataset",
   "description": "Supports all ArcGIS Raster Datasets",
   "help": ""
  }
 ],
 "mensurationCapabilities": "Basic",
 "hasHistograms": true,
 "hasColormap": true,
 "hasRasterAttributeTable": true,
 "minScale": 0,
 "maxScale": 0,
 "exportTilesAllowed": false,
 "hasMultidimensions": false,
 "supportsStatistics": false,
 "supportsAdvancedQueries": false,
 "editFieldsInfo": null,
 "ownershipBasedAccessControlForRasters": null,
 "allowComputeTiePoints": false,
 "useStandardizedQueries": true,
 "advancedQueryCapabilities": {
  "useStandardizedQueries": true,
  "supportsStatistics": false,
  "supportsOrderBy": false,
  "supportsDistinct": false,
  "supportsPagination": false
 },
 "spatialReference": {
  "wkid": 102008,
  "latestWkid": 102008
 }
}
