View In:
ArcGIS JavaScript
ArcGIS Online map viewer
Google Earth
ArcMap
View Footprint In:
ArcGIS Online map viewer
Service Description: Agricultural Soils of the US derived from gSSURGO data. Show soils capable of agriculture. Areas may not be in agricultural production.
Layers were created by joining gSSURGO 2015 data with the Final Map Unit Table from April 2015
and reclassifying the data using the frmlndcl attribute field.
Data have been compiled over 100 years at different resolutions and for different scales of administrative units
The Soils Suitable for Agriculture layer represents areas listed as farmland without modifiers and qualifiers. It excludes areas that require irrigation, protection from flooding, removal of salts, or other special treatment.
Name: GreenInfrastructure/AgLands
Description: Agricultural Soils of the US derived from gSSURGO data. Show soils capable of agriculture. Areas may not be in agricultural production.
Layers were created by joining gSSURGO 2015 data with the Final Map Unit Table from April 2015
and reclassifying the data using the frmlndcl attribute field.
Data have been compiled over 100 years at different resolutions and for different scales of administrative units
The Soils Suitable for Agriculture layer represents areas listed as farmland without modifiers and qualifiers. It excludes areas that require irrigation, protection from flooding, removal of salts, or other special treatment.
Single Fused Map Cache: false
Extent:
XMin: -2280467.275876234
YMin: -1704862.933511828
XMax: 2190792.724123766
YMax: 1368127.066488172
Spatial Reference: 102008
(102008)
Initial Extent:
XMin: -2280467.275876234
YMin: -1704862.933511828
XMax: 2190792.724123766
YMax: 1368127.066488172
Spatial Reference: 102008
(102008)
Full Extent:
XMin: -2280467.275876234
YMin: -1704862.933511828
XMax: 2190792.724123766
YMax: 1368127.066488172
Spatial Reference: 102008
(102008)
Pixel Size X: 30.0
Pixel Size Y: 30.0
Band Count: 1
Pixel Type: S32
RasterFunction Infos: N/A
Mensuration Capabilities: Basic
Has Histograms: true
Has Colormap: false
Has Multi Dimensions : false
Rendering Rule:
Min Scale: 0
Max Scale: 0
Copyright Text: USDA
Service Data Type: esriImageServiceDataTypeGeneric
Min Values: 1
Max Values: 4
Mean Values: 2.28981268329088
Standard Deviation Values: 1.4477045220633469
Object ID Field:
Fields:
None
Default Mosaic Method: Center
Allowed Mosaic Methods:
SortField:
SortValue: null
Mosaic Operator: First
Default Compression Quality: 75
Default Resampling Method: Nearest
Max Record Count: null
Max Image Height: 41000
Max Image Width: 150000
Max Download Image Count: null
Max Mosaic Image Count: null
Allow Raster Function: true
Allow Compute TiePoints: false
Supports Statistics: false
Supports Advanced Queries: false
Use StandardizedQueries: true
Raster Type Infos:
Name: Raster Dataset
Description: Supports all ArcGIS Raster Datasets
Help:
Has Raster Attribute Table: true
Edit Fields Info: null
Ownership Based AccessControl For Rasters: null
Child Resources:
Info
Raster Attribute Table
Histograms
Key Properties
Legend
MultiDimensionalInfo
rasterFunctionInfos
Supported Operations:
Export Image
Identify
Measure
Compute Histograms
Compute Statistics Histograms
Get Samples
Compute Class Statistics