{
 "currentVersion": 10.4,
 "serviceDescription": "Agricultural Soils of the US derived from gSSURGO data. Show soils capable of agriculture.  Areas may not be in agricultural production.\n\nLayers were created by joining  gSSURGO 2015 data with the Final Map Unit Table from April 2015\nand reclassifying the data using the frmlndcl attribute field.\n\nData have been compiled over 100 years at different resolutions and for different scales of administrative units\n\nThe Soils Suitable for Agriculture layer represents areas listed as farmland without modifiers and qualifiers. It excludes areas that require irrigation, protection from flooding, removal of salts, or other special treatment.",
 "name": "GreenInfrastructure/AgLands",
 "description": "Agricultural Soils of the US derived from gSSURGO data. Show soils capable of agriculture.  Areas may not be in agricultural production.\n\nLayers were created by joining  gSSURGO 2015 data with the Final Map Unit Table from April 2015\nand reclassifying the data using the frmlndcl attribute field.\n\nData have been compiled over 100 years at different resolutions and for different scales of administrative units\n\nThe Soils Suitable for Agriculture layer represents areas listed as farmland without modifiers and qualifiers. It excludes areas that require irrigation, protection from flooding, removal of salts, or other special treatment.",
 "extent": {
  "xmin": -2280467.275876234,
  "ymin": -1704862.933511828,
  "xmax": 2190792.724123766,
  "ymax": 1368127.066488172,
  "spatialReference": {
   "wkid": 102008,
   "latestWkid": 102008
  }
 },
 "initialExtent": {
  "xmin": -2280467.275876234,
  "ymin": -1704862.933511828,
  "xmax": 2190792.724123766,
  "ymax": 1368127.066488172,
  "spatialReference": {
   "wkid": 102008,
   "latestWkid": 102008
  }
 },
 "fullExtent": {
  "xmin": -2280467.275876234,
  "ymin": -1704862.933511828,
  "xmax": 2190792.724123766,
  "ymax": 1368127.066488172,
  "spatialReference": {
   "wkid": 102008,
   "latestWkid": 102008
  }
 },
 "pixelSizeX": 30,
 "pixelSizeY": 30,
 "bandCount": 1,
 "pixelType": "S32",
 "minPixelSize": 0,
 "maxPixelSize": 0,
 "copyrightText": "USDA",
 "serviceDataType": "esriImageServiceDataTypeGeneric",
 "minValues": [
  1
 ],
 "maxValues": [
  4
 ],
 "meanValues": [
  2.28981268329088
 ],
 "stdvValues": [
  1.4477045220633469
 ],
 "objectIdField": "",
 "fields": [],
 "capabilities": "Image,Metadata,Mensuration",
 "defaultMosaicMethod": "Center",
 "allowedMosaicMethods": "",
 "sortField": "",
 "sortValue": null,
 "mosaicOperator": "First",
 "defaultCompressionQuality": 75,
 "defaultResamplingMethod": "Nearest",
 "maxImageHeight": 41000,
 "maxImageWidth": 150000,
 "allowRasterFunction": true,
 "rasterFunctionInfos": [],
 "rasterTypeInfos": [
  {
   "name": "Raster Dataset",
   "description": "Supports all ArcGIS Raster Datasets",
   "help": ""
  }
 ],
 "mensurationCapabilities": "Basic",
 "hasHistograms": true,
 "hasColormap": false,
 "hasRasterAttributeTable": true,
 "minScale": 0,
 "maxScale": 0,
 "exportTilesAllowed": false,
 "hasMultidimensions": false,
 "supportsStatistics": false,
 "supportsAdvancedQueries": false,
 "editFieldsInfo": null,
 "ownershipBasedAccessControlForRasters": null,
 "allowComputeTiePoints": false,
 "useStandardizedQueries": true,
 "advancedQueryCapabilities": {
  "useStandardizedQueries": true,
  "supportsStatistics": false,
  "supportsOrderBy": false,
  "supportsDistinct": false,
  "supportsPagination": false
 },
 "spatialReference": {
  "wkid": 102008,
  "latestWkid": 102008
 }
}