View In:
ArcGIS JavaScript
ArcGIS Online map viewer
Google Earth
ArcMap
View Footprint In:
ArcGIS Online map viewer
Service Description: This mosaic dataset contains a set of layers that are used to define the land cover characteristics of the Lower 48 states.
Name: GreenInfrastructure/WeightedOverlay_Geoplanner
Description: This mosaic dataset contains a set of layers that are used to define the land cover characteristics of the Lower 48 states.
Single Fused Map Cache: false
Extent:
XMin: -1.437783528388889E7
YMin: 2602189.245
XMax: -7129715.2838888895
YMax: 6742189.245
Spatial Reference: 102100
(3857)
Initial Extent:
XMin: -1.437783528388889E7
YMin: 2602189.245
XMax: -7129715.2838888895
YMax: 6742189.245
Spatial Reference: 102100
(3857)
Full Extent:
XMin: -1.437783528388889E7
YMin: 2602189.245
XMax: -7129715.2838888895
YMax: 6742189.245
Spatial Reference: 102100
(3857)
Pixel Size X: 30.0
Pixel Size Y: 30.0
Band Count: 1
Pixel Type: F32
RasterFunction Infos: N/A
Mensuration Capabilities: Basic
Has Histograms: false
Has Colormap: false
Has Multi Dimensions : false
Rendering Rule:
Min Scale: 0
Max Scale: 0
Copyright Text: Esri
Service Data Type: esriImageServiceDataTypeGeneric
Min Values: N/A
Max Values: N/A
Mean Values: N/A
Standard Deviation Values: N/A
Object ID Field: OBJECTID
Fields:
-
OBJECTID
(
type: esriFieldTypeOID
, alias: OBJECTID
)
-
Shape
(
type: esriFieldTypeGeometry
, alias: Shape
)
-
Name
(
type: esriFieldTypeString
, alias: Name
, length: 200
)
-
MinPS
(
type: esriFieldTypeDouble
, alias: MinPS
)
-
MaxPS
(
type: esriFieldTypeDouble
, alias: MaxPS
)
-
LowPS
(
type: esriFieldTypeDouble
, alias: LowPS
)
-
HighPS
(
type: esriFieldTypeDouble
, alias: HighPS
)
-
Category
(
type: esriFieldTypeInteger
, alias: Category
, Coded Values:
[0: Unknown]
, [1: Primary]
, [2: Overview]
, ...5 more...
)
-
Tag
(
type: esriFieldTypeString
, alias: Tag
, length: 100
)
-
GroupName
(
type: esriFieldTypeString
, alias: GroupName
, length: 100
)
-
ProductName
(
type: esriFieldTypeString
, alias: ProductName
, length: 100
)
-
CenterX
(
type: esriFieldTypeDouble
, alias: CenterX
)
-
CenterY
(
type: esriFieldTypeDouble
, alias: CenterY
)
-
ZOrder
(
type: esriFieldTypeInteger
, alias: ZOrder
)
-
Title
(
type: esriFieldTypeString
, alias: Title
, length: 50
)
-
Description
(
type: esriFieldTypeString
, alias: Description
, length: 1024
)
-
Url
(
type: esriFieldTypeString
, alias: Url
, length: 1024
)
-
InputRanges
(
type: esriFieldTypeString
, alias: InputRanges
, length: 256
)
-
NoDataRanges
(
type: esriFieldTypeString
, alias: NoDataRanges
, length: 256
)
-
RangeLabels
(
type: esriFieldTypeString
, alias: RangeLabels
, length: 1024
)
-
NoDataRangeLabels
(
type: esriFieldTypeString
, alias: NoDataRangeLabels
, length: 1024
)
-
OutputValues
(
type: esriFieldTypeString
, alias: OutputValues
, length: 256
)
-
Metadata
(
type: esriFieldTypeString
, alias: Metadata
, length: 1024
)
-
dataset_id
(
type: esriFieldTypeString
, alias: dataset_id
, length: 50
)
-
Shape_Length
(
type: esriFieldTypeDouble
, alias: Shape_Length
)
-
Shape_Area
(
type: esriFieldTypeDouble
, alias: Shape_Area
)
Default Mosaic Method: LockRaster
Allowed Mosaic Methods: LockRaster,NorthWest,Center,ByAttribute,Nadir,Viewpoint,Seamline,None
SortField:
SortValue: null
Mosaic Operator: First
Default Compression Quality: 75
Default Resampling Method: Nearest
Max Record Count: 1000
Max Image Height: 41000
Max Image Width: 150000
Max Download Image Count: 20
Max Mosaic Image Count: 20
Allow Raster Function: true
Allow Compute TiePoints: false
Supports Statistics: true
Supports Advanced Queries: true
Use StandardizedQueries: true
Raster Type Infos:
Name: Raster Dataset
Description: Supports all ArcGIS Raster Datasets
Help:
Has Raster Attribute Table: false
Edit Fields Info: null
Ownership Based AccessControl For Rasters: null
Child Resources:
Info
Key Properties
Legend
MultiDimensionalInfo
rasterFunctionInfos
Supported Operations:
Export Image
Query
Identify
Measure
Compute Histograms
Compute Statistics Histograms
Get Samples
Compute Class Statistics