View In:
ArcGIS JavaScript
ArcGIS Online map viewer
Google Earth
ArcMap
View Footprint In:
ArcGIS Online map viewer
Service Description: The layer shows PAD-US protected areas shaded by their IUCN Category.
Name: GreenInfrastructure/PADUSIUCNCAT_WM
Description: The layer shows PAD-US protected areas shaded by their IUCN Category.
Single Fused Map Cache: false
Extent:
XMin: -1.4291766229067402E7
YMin: 2640128.7301763995
XMax: -7246026.229067402
YMax: 6668888.730176399
Spatial Reference: 102100
(3857)
Initial Extent:
XMin: -1.4291766229067402E7
YMin: 2640128.7301763995
XMax: -7246026.229067402
YMax: 6668888.730176399
Spatial Reference: 102100
(3857)
Full Extent:
XMin: -1.4291766229067402E7
YMin: 2640128.7301763995
XMax: -7246026.229067402
YMax: 6668888.730176399
Spatial Reference: 102100
(3857)
Pixel Size X: 30.0
Pixel Size Y: 30.0
Band Count: 1
Pixel Type: U8
RasterFunction Infos: N/A
Mensuration Capabilities: Basic
Has Histograms: true
Has Colormap: false
Has Multi Dimensions : false
Rendering Rule:
Min Scale: 0
Max Scale: 0
Copyright Text: USGS
Service Data Type: esriImageServiceDataTypeThematic
Min Values: 1
Max Values: 8
Mean Values: 3.5790420759533563
Standard Deviation Values: 1.788152334362773
Object ID Field:
Fields:
None
Default Mosaic Method: Center
Allowed Mosaic Methods:
SortField:
SortValue: null
Mosaic Operator: First
Default Compression Quality: 75
Default Resampling Method: Nearest
Max Record Count: null
Max Image Height: 41000
Max Image Width: 150000
Max Download Image Count: null
Max Mosaic Image Count: null
Allow Raster Function: true
Allow Compute TiePoints: false
Supports Statistics: false
Supports Advanced Queries: false
Use StandardizedQueries: true
Raster Type Infos:
Name: Raster Dataset
Description: Supports all ArcGIS Raster Datasets
Help:
Has Raster Attribute Table: true
Edit Fields Info: null
Ownership Based AccessControl For Rasters: null
Child Resources:
Info
Raster Attribute Table
Histograms
Key Properties
Legend
MultiDimensionalInfo
rasterFunctionInfos
Supported Operations:
Export Image
Identify
Measure
Compute Histograms
Compute Statistics Histograms
Get Samples
Compute Class Statistics