View In:
ArcGIS JavaScript
ArcGIS Online map viewer
Google Earth
ArcMap
View Footprint In:
ArcGIS Online map viewer
Service Description: Betweenness Centrality (BC) provides a metric depicting each core’s importance in a connectivity network. BC represents the number of paths that flow through a given habitat core. It is normalized by the total number of shortest paths between all pairs of nodes, except those paths connecting immediate neighbors. High BC values reflect greater use of that core in traversing the network, thus elevating the core’s importance in facilitating connectivity when compared to cores of lower value.
Name: GreenInfrastructure/Intact_Habitat_Cores_by_Betweenness
Description: Betweenness Centrality (BC) provides a metric depicting each core’s importance in a connectivity network. BC represents the number of paths that flow through a given habitat core. It is normalized by the total number of shortest paths between all pairs of nodes, except those paths connecting immediate neighbors. High BC values reflect greater use of that core in traversing the network, thus elevating the core’s importance in facilitating connectivity when compared to cores of lower value.
Single Fused Map Cache: false
Extent:
XMin: -2237027.2759000007
YMin: -1691692.9334000004
XMax: 2127072.724100005
YMax: 1329067.0666000033
Spatial Reference: 102008
(102008)
Initial Extent:
XMin: -2237027.2759000007
YMin: -1691692.9334000004
XMax: 2127072.724100005
YMax: 1329067.0666000033
Spatial Reference: 102008
(102008)
Full Extent:
XMin: -2237027.2759000007
YMin: -1691692.9334000004
XMax: 2127072.724100005
YMax: 1329067.0666000033
Spatial Reference: 102008
(102008)
Pixel Size X: 30.00000000000004
Pixel Size Y: 30.000000000000036
Band Count: 3
Pixel Type: U8
RasterFunction Infos: N/A
Mensuration Capabilities: Basic
Has Histograms: false
Has Colormap: false
Has Multi Dimensions : false
Rendering Rule:
Min Scale: 0
Max Scale: 0
Copyright Text: Esri, APL, NetworkX, Betweenness Centrality, BC
Service Data Type: esriImageServiceDataTypeRGB
Min Values: N/A
Max Values: N/A
Mean Values: N/A
Standard Deviation Values: N/A
Object ID Field:
Fields:
None
Default Mosaic Method: Center
Allowed Mosaic Methods:
SortField:
SortValue: null
Mosaic Operator: First
Default Compression Quality: 75
Default Resampling Method: Nearest
Max Record Count: null
Max Image Height: 41000
Max Image Width: 150000
Max Download Image Count: null
Max Mosaic Image Count: null
Allow Raster Function: true
Allow Compute TiePoints: false
Supports Statistics: false
Supports Advanced Queries: false
Use StandardizedQueries: true
Raster Type Infos:
Name: Raster Dataset
Description: Supports all ArcGIS Raster Datasets
Help:
Has Raster Attribute Table: false
Edit Fields Info: null
Ownership Based AccessControl For Rasters: null
Child Resources:
Info
Key Properties
Legend
MultiDimensionalInfo
rasterFunctionInfos
Supported Operations:
Export Image
Identify
Compute Histograms
Compute Statistics Histograms
Get Samples
Compute Class Statistics