{
 "currentVersion": 10.4,
 "serviceDescription": "Methods and Permissions \u2013 BiodiversityMapping.org\n\n5 April 2015\n\nPrimary species range map data to create the diversity maps on BiodiversityMapping.org are from the IUCN (mammals, amphibians, and cone snails), jointly from BirdLife International and NatureServe (birds), from NatureServe (reptiles and freshwater fish of the USA), or from the U.S. Geological Survey (trees of the USA). Range maps for mammals, amphibians, and cone snails can be found at,\nhttp://www.iucnredlist.org/technical-documents/spatial-data\n\nRange maps for birds can be requested at,\nhttp://www.birdlife.org/datazone/info/spcdownload\n\nRange maps for reptiles and freshwater fish of the USA can be requested at,\nhttp://www.natureserve.org\n\nRange maps for trees can be downloaded at,\nhttp://gec.cr.usgs.gov/data/little\n\nSpecies richness and other metrics for the maps on the BiodiversityMapping website was calculated with ArcGIS 10.1 and ArcGIS 10.2 using equal area grids (Eckert IV or Albers Equal Area Conic). In all cases, extinct species were removed, as were non-native distributions of extant species. Polygons listed with the attribute Vagrant were also removed. In cases where a species range was split into multiple subspecies, these were merged to create a range map for the full species when possible.\n\nRichness was usually calculated using a 10×10km grid. For each grid cell, any species that overlapped any part of the cell counted as a presence of that species. For some groups or areas, a uniform grid was not most appropriate (e.g., watersheds for freshwater fish), and a decision was made on the best spatial unit to use that would maintain the highest data quality.\n\nMaps of amphibian diversity include the total species richness, major taxonomic Orders (Anura, Caudata, Gymnophiona), threatened species, and small-ranged species. Species considered small-ranged are those with a geographic range size smaller than the global median (i.e., the 50% of species with the smallest ranges). Maps are derived from digital distribution maps from the IUCN, July 2013 update.\n\nMaps of mammal diversity include the total species richness, major taxonomic Orders (Cetartiodactyla, Carnivora, Primates, Eulipotyphla, Chiroptera, Rodentia), marsupials, threatened species, and small-ranged species. Species considered small-ranged are those with a geographic range size smaller than the global median (i.e., the 50% of species with the smallest ranges). Maps are derived from digital distribution maps from the IUCN, July 2013 update.\n\nMaps of bird diversity include the total species richness (using breeding, non-breeding, and combined ranges), major taxonomic groups (non-Passeriformes, Passeriformes, Tyranni, Passeri), parrots, hummingbirds, threatened species, and small-ranged species. Species considered small-ranged are those with a geographic range size smaller than the global median (i.e., the 50% of species with the smallest ranges). Maps are derived from digital distribution maps for all the world's birds in BirdLife International and NatureServe (2013).\n\nMaps of cone snail diversity include the total species richness, threatened species, data deficient species, and small-ranged species. Species considered small-ranged are those with a geographic range size smaller than the global median (i.e., the 50% of species with the smallest ranges). Maps are derived from digital distribution maps from the IUCN, July 2013 update.\n\nVersions of many of the maps on this site originally appeared in the scientific articles below,\n\nJenkins, CN, SL Pimm, LN Joppa (2013) Global Patterns of Terrestrial Vertebrate Diversity and Conservation. PNAS 110(28): E2602-E2610. (PDF)\n\nPimm, SL, CN Jenkins, R Abell, TM Brooks, JL Gittleman, LN Joppa, PH Raven, CM Roberts, JO Sexton (2014) The biodiversity of species and their rates of extinction, distribution, and protection. Science 344(6187): 1246752\n\nJenkins, CN, KSV Houtan, SL Pimm, JO Sexton (2105) U.S. protected lands mismatch biodiversity priorities. Proceedings of the National Academy of Sciences. www.pnas.org/cgi/doi/10.1073/pnas.1418034112\n\nThe text and images on BiodiversityMapping.org are for the personal, not-for-profit use of students, scholars, informal educational institutions, and the public. Any such use must name \"BiodiversityMapping.org\" as the source for the material, with acknowledgement of IUCN, BirdLife International, NatureServe, and USGS where appropriate for their contribution of the original range map data used in producing these derived works. No further permission is needed for educational use. If using the data for scientific research, please cite the appropriate reference articles in the above list.\n\nCommercial use, electronic re-publication, or print publication of text or images is strictly prohibited without prior written permission.\n\nClinton N. Jenkins\nInstituto de Pesquisas Ecológicas\nWebsite: http://clintonjenkins.org\nEmail: Clinton.Jenkins@gmail.com",
 "mapName": "Biodiversity and Conservation Priorities",
 "description": "",
 "copyrightText": "BiodiversityMapping.org",
 "supportsDynamicLayers": false,
 "layers": [
  {
   "id": 0,
   "name": "Priority Index",
   "parentLayerId": -1,
   "defaultVisibility": true,
   "subLayerIds": null,
   "minScale": 0,
   "maxScale": 0
  }
 ],
 "tables": [],
 "spatialReference": {
  "wkid": 102100,
  "latestWkid": 3857
 },
 "singleFusedMapCache": true,
 "tileInfo": {
  "rows": 256,
  "cols": 256,
  "dpi": 96,
  "format": "PNG32",
  "compressionQuality": 0,
  "origin": {
   "x": -2.0037508342787E7,
   "y": 2.0037508342787E7
  },
  "spatialReference": {
   "wkid": 102100,
   "latestWkid": 3857
  },
  "lods": [
   {
    "level": 0,
    "resolution": 156543.03392800014,
    "scale": 5.91657527591555E8
   },
   {
    "level": 1,
    "resolution": 78271.51696399994,
    "scale": 2.95828763795777E8
   },
   {
    "level": 2,
    "resolution": 39135.75848200009,
    "scale": 1.47914381897889E8
   },
   {
    "level": 3,
    "resolution": 19567.87924099992,
    "scale": 7.3957190948944E7
   },
   {
    "level": 4,
    "resolution": 9783.93962049996,
    "scale": 3.6978595474472E7
   },
   {
    "level": 5,
    "resolution": 4891.96981024998,
    "scale": 1.8489297737236E7
   },
   {
    "level": 6,
    "resolution": 2445.98490512499,
    "scale": 9244648.868618
   },
   {
    "level": 7,
    "resolution": 1222.992452562495,
    "scale": 4622324.434309
   },
   {
    "level": 8,
    "resolution": 611.4962262813797,
    "scale": 2311162.217155
   },
   {
    "level": 9,
    "resolution": 305.74811314055756,
    "scale": 1155581.108577
   },
   {
    "level": 10,
    "resolution": 152.87405657041106,
    "scale": 577790.554289
   },
   {
    "level": 11,
    "resolution": 76.43702828507324,
    "scale": 288895.277144
   },
   {
    "level": 12,
    "resolution": 38.21851414253662,
    "scale": 144447.638572
   },
   {
    "level": 13,
    "resolution": 19.10925707126831,
    "scale": 72223.819286
   },
   {
    "level": 14,
    "resolution": 9.554628535634155,
    "scale": 36111.909643
   },
   {
    "level": 15,
    "resolution": 4.77731426794937,
    "scale": 18055.954822
   },
   {
    "level": 16,
    "resolution": 2.388657133974685,
    "scale": 9027.977411
   },
   {
    "level": 17,
    "resolution": 1.1943285668550503,
    "scale": 4513.988705
   },
   {
    "level": 18,
    "resolution": 0.5971642835598172,
    "scale": 2256.994353
   },
   {
    "level": 19,
    "resolution": 0.29858214164761665,
    "scale": 1128.497176
   }
  ]
 },
 "initialExtent": {
  "xmin": -1.4204076492993208E7,
  "ymin": 2745152.173861344,
  "xmax": -7122521.70398288,
  "ymax": 6421369.140833918,
  "spatialReference": {
   "cs": "pcs",
   "wkid": 102100
  }
 },
 "fullExtent": {
  "xmin": -1.4348166041076653E7,
  "ymin": 2608433.3610400488,
  "xmax": -7198701.354333744,
  "ymax": 6937862.433714361,
  "spatialReference": {
   "cs": "pcs",
   "wkid": 102100
  }
 },
 "minScale": 3.6978595474472E7,
 "maxScale": 1155581.108577,
 "units": "esriMeters",
 "supportedImageFormatTypes": "PNG32,PNG24,PNG,JPG,DIB,TIFF,EMF,PS,PDF,GIF,SVG,SVGZ,BMP",
 "documentInfo": {
  "Title": "Biodiversity Priority",
  "Author": "Clinton N. Jenkins",
  "Comments": "Methods and Permissions \u2013 BiodiversityMapping.org\n\n5 April 2015\n\nPrimary species range map data to create the diversity maps on BiodiversityMapping.org are from the IUCN (mammals, amphibians, and cone snails), jointly from BirdLife International and NatureServe (birds), from NatureServe (reptiles and freshwater fish of the USA), or from the U.S. Geological Survey (trees of the USA). Range maps for mammals, amphibians, and cone snails can be found at,\nhttp://www.iucnredlist.org/technical-documents/spatial-data\n\nRange maps for birds can be requested at,\nhttp://www.birdlife.org/datazone/info/spcdownload\n\nRange maps for reptiles and freshwater fish of the USA can be requested at,\nhttp://www.natureserve.org\n\nRange maps for trees can be downloaded at,\nhttp://gec.cr.usgs.gov/data/little\n\nSpecies richness and other metrics for the maps on the BiodiversityMapping website was calculated with ArcGIS 10.1 and ArcGIS 10.2 using equal area grids (Eckert IV or Albers Equal Area Conic). In all cases, extinct species were removed, as were non-native distributions of extant species. Polygons listed with the attribute Vagrant were also removed. In cases where a species range was split into multiple subspecies, these were merged to create a range map for the full species when possible.\n\nRichness was usually calculated using a 10×10km grid. For each grid cell, any species that overlapped any part of the cell counted as a presence of that species. For some groups or areas, a uniform grid was not most appropriate (e.g., watersheds for freshwater fish), and a decision was made on the best spatial unit to use that would maintain the highest data quality.\n\nMaps of amphibian diversity include the total species richness, major taxonomic Orders (Anura, Caudata, Gymnophiona), threatened species, and small-ranged species. Species considered small-ranged are those with a geographic range size smaller than the global median (i.e., the 50% of species with the smallest ranges). Maps are derived from digital distribution maps from the IUCN, July 2013 update.\n\nMaps of mammal diversity include the total species richness, major taxonomic Orders (Cetartiodactyla, Carnivora, Primates, Eulipotyphla, Chiroptera, Rodentia), marsupials, threatened species, and small-ranged species. Species considered small-ranged are those with a geographic range size smaller than the global median (i.e., the 50% of species with the smallest ranges). Maps are derived from digital distribution maps from the IUCN, July 2013 update.\n\nMaps of bird diversity include the total species richness (using breeding, non-breeding, and combined ranges), major taxonomic groups (non-Passeriformes, Passeriformes, Tyranni, Passeri), parrots, hummingbirds, threatened species, and small-ranged species. Species considered small-ranged are those with a geographic range size smaller than the global median (i.e., the 50% of species with the smallest ranges). Maps are derived from digital distribution maps for all the world's birds in BirdLife International and NatureServe (2013).\n\nMaps of cone snail diversity include the total species richness, threatened species, data deficient species, and small-ranged species. Species considered small-ranged are those with a geographic range size smaller than the global median (i.e., the 50% of species with the smallest ranges). Maps are derived from digital distribution maps from the IUCN, July 2013 update.\n\nVersions of many of the maps on this site originally appeared in the scientific articles below,\n\nJenkins, CN, SL Pimm, LN Joppa (2013) Global Patterns of Terrestrial Vertebrate Diversity and Conservation. PNAS 110(28): E2602-E2610. (PDF)\n\nPimm, SL, CN Jenkins, R Abell, TM Brooks, JL Gittleman, LN Joppa, PH Raven, CM Roberts, JO Sexton (2014) The biodiversity of species and their rates of extinction, distribution, and protection. Science 344(6187): 1246752\n\nJenkins, CN, KSV Houtan, SL Pimm, JO Sexton (2105) U.S. protected lands mismatch biodiversity priorities. Proceedings of the National Academy of Sciences. www.pnas.org/cgi/doi/10.1073/pnas.1418034112\n\nThe text and images on BiodiversityMapping.org are for the personal, not-for-profit use of students, scholars, informal educational institutions, and the public. Any such use must name \"BiodiversityMapping.org\" as the source for the material, with acknowledgement of IUCN, BirdLife International, NatureServe, and USGS where appropriate for their contribution of the original range map data used in producing these derived works. No further permission is needed for educational use. If using the data for scientific research, please cite the appropriate reference articles in the above list.\n\nCommercial use, electronic re-publication, or print publication of text or images is strictly prohibited without prior written permission.\n\nClinton N. Jenkins\nInstituto de Pesquisas Ecológicas\nWebsite: http://clintonjenkins.org\nEmail: Clinton.Jenkins@gmail.com",
  "Subject": "GIS data layers on USA biodiversity, from http://biodiversitymapping.org",
  "Category": "",
  "AntialiasingMode": "Best",
  "TextAntialiasingMode": "Force",
  "Keywords": "biodiversity,birds,mammals,amphibians,reptiles,freshwater fish,trees,species richness,conservation,threatened,endemism,priorities"
 },
 "capabilities": "Map,Query,Data",
 "supportedQueryFormats": "JSON, AMF, geoJSON",
 "exportTilesAllowed": false,
 "maxRecordCount": 1000,
 "maxImageHeight": 4096,
 "maxImageWidth": 4096,
 "tileServers": "",
 "supportedExtensions": ""
}
